BEGIN:VCALENDAR
VERSION:2.0
PRODID:-//Sophicity/Tribune/Florala, AL
BEGIN:VEVENT
DTSTAMP:20260424T224647Z
UID:f52954d8-edf2-4c83-9db2-7e3a1a3a78b0-3880
DTSTART:20240106T160000Z
DTEND:20240106T180000Z
LOCATION:Carver Community Center Senior
CLASS:PUBLIC
SUMMARY:Carver Community Center Senior Saturday
END:VEVENT
END:VCALENDAR
