BEGIN:VCALENDAR
VERSION:2.0
PRODID:-//Sophicity/Tribune/Florala, AL
BEGIN:VEVENT
DTSTAMP:20260424T224629Z
UID:f52954d8-edf2-4c83-9db2-7e3a1a3a78b0-3879
DTSTART:20240104T233000Z
DTEND:20240105T003000Z
LOCATION:Rodney J. Evans Civic Center
CLASS:PUBLIC
SUMMARY:Republican Candidate Forum
END:VEVENT
END:VCALENDAR
