BEGIN:VCALENDAR
VERSION:2.0
PRODID:-//Sophicity/Tribune/Florala, AL
BEGIN:VEVENT
DTSTAMP:20260425T002743Z
UID:f52954d8-edf2-4c83-9db2-7e3a1a3a78b0-3876
DTSTART:20231226T130000Z
DTEND:20231226T220000Z
CLASS:PUBLIC
SUMMARY:City Hall Closed
END:VEVENT
END:VCALENDAR
