BEGIN:VCALENDAR
VERSION:2.0
PRODID:-//Sophicity/Tribune/Florala, AL
BEGIN:VEVENT
DTSTAMP:20260425T002743Z
UID:f52954d8-edf2-4c83-9db2-7e3a1a3a78b0-3873
DTSTART:20231223T140000Z
DTEND:20231223T170000Z
CLASS:PUBLIC
SUMMARY:Santa's Winter Wonderland
END:VEVENT
END:VCALENDAR
