BEGIN:VCALENDAR
VERSION:2.0
PRODID:-//Sophicity/Tribune/Florala, AL
BEGIN:VEVENT
DTSTAMP:20260425T002829Z
UID:f52954d8-edf2-4c83-9db2-7e3a1a3a78b0-3868
DTSTART:20231209T140000Z
DTEND:20231209T190000Z
CLASS:PUBLIC
SUMMARY:Tri-Cities Shop the Block
END:VEVENT
END:VCALENDAR
