BEGIN:VCALENDAR
VERSION:2.0
PRODID:-//Sophicity/Tribune/Florala, AL
BEGIN:VEVENT
DTSTAMP:20260424T205327Z
UID:f52954d8-edf2-4c83-9db2-7e3a1a3a78b0-3867
DTSTART:20240210T130000Z
DTEND:20240210T220000Z
CLASS:PUBLIC
SUMMARY:Black History Gala
END:VEVENT
END:VCALENDAR
