BEGIN:VCALENDAR
VERSION:2.0
PRODID:-//Sophicity/Tribune/Florala, AL
BEGIN:VEVENT
DTSTAMP:20260424T210119Z
UID:f52954d8-edf2-4c83-9db2-7e3a1a3a78b0-3866
DTSTART:20240203T130000Z
DTEND:20240203T220000Z
CLASS:PUBLIC
SUMMARY:Cancer Freeze
END:VEVENT
END:VCALENDAR
