BEGIN:VCALENDAR
VERSION:2.0
PRODID:-//Sophicity/Tribune/Florala, AL
BEGIN:VEVENT
DTSTAMP:20260425T015612Z
UID:f52954d8-edf2-4c83-9db2-7e3a1a3a78b0-3857
DTSTART:20230904T110000Z
DTEND:20230904T210000Z
CLASS:PUBLIC
SUMMARY:City Offices closed for Labor Day
END:VEVENT
END:VCALENDAR
