BEGIN:VCALENDAR
VERSION:2.0
PRODID:-//Sophicity/Tribune/Florala, AL
BEGIN:VEVENT
DTSTAMP:20260425T002829Z
UID:f52954d8-edf2-4c83-9db2-7e3a1a3a78b0-3856
DTSTART:20230721T180000Z
DTEND:20230721T200000Z
CLASS:PUBLIC
SUMMARY:Senior Summer Bash at Lake Jackson
END:VEVENT
END:VCALENDAR
