BEGIN:VCALENDAR
VERSION:2.0
PRODID:-//Sophicity/Tribune/Florala, AL
BEGIN:VEVENT
DTSTAMP:20260425T033328Z
UID:f52954d8-edf2-4c83-9db2-7e3a1a3a78b0-3853
DTSTART:20231009T223000Z
DTEND:20231009T233000Z
CLASS:PUBLIC
SUMMARY:Council Meeting 
END:VEVENT
END:VCALENDAR
