BEGIN:VCALENDAR
VERSION:2.0
PRODID:-//Sophicity/Tribune/Florala, AL
BEGIN:VEVENT
DTSTAMP:20260424T222358Z
UID:f52954d8-edf2-4c83-9db2-7e3a1a3a78b0-3849
DTSTART:20230216T230000Z
DTEND:20230217T000000Z
CLASS:PUBLIC
SUMMARY: Council Meeting-Special Call
END:VEVENT
END:VCALENDAR
