BEGIN:VCALENDAR
VERSION:2.0
PRODID:-//Sophicity/Tribune/Florala, AL
BEGIN:VEVENT
DTSTAMP:20260424T223105Z
UID:f52954d8-edf2-4c83-9db2-7e3a1a3a78b0-3848
DTSTART:20230213T233000Z
DTEND:20230214T003000Z
CLASS:PUBLIC
SUMMARY:Council Meeting
END:VEVENT
END:VCALENDAR
