BEGIN:VCALENDAR
VERSION:2.0
PRODID:-//Sophicity/Tribune/Florala, AL
BEGIN:VEVENT
DTSTAMP:20260424T222359Z
UID:f52954d8-edf2-4c83-9db2-7e3a1a3a78b0-3847
DTSTART:20230213T160000Z
DTEND:20230213T170000Z
CLASS:PUBLIC
SUMMARY:Florala Utility Meeting
END:VEVENT
END:VCALENDAR
