BEGIN:VCALENDAR
VERSION:2.0
PRODID:-//Sophicity/Tribune/Florala, AL
BEGIN:VEVENT
DTSTAMP:20260424T222409Z
UID:f52954d8-edf2-4c83-9db2-7e3a1a3a78b0-3845
DTSTART:20230204T120000Z
DTEND:20230204T220000Z
CLASS:PUBLIC
SUMMARY:Cancer Freeze at Lake Jackson
END:VEVENT
END:VCALENDAR
