BEGIN:VCALENDAR
VERSION:2.0
PRODID:-//Sophicity/Tribune/Florala, AL
BEGIN:VEVENT
DTSTAMP:20260425T032718Z
UID:f52954d8-edf2-4c83-9db2-7e3a1a3a78b0-3834
DTSTART:20221117T223000Z
DTEND:20221117T233000Z
CLASS:PUBLIC
SUMMARY:Friends of Lake Jackson Meeting
END:VEVENT
END:VCALENDAR
