BEGIN:VCALENDAR
VERSION:2.0
PRODID:-//Sophicity/Tribune/Florala, AL
BEGIN:VEVENT
DTSTAMP:20260425T032829Z
UID:f52954d8-edf2-4c83-9db2-7e3a1a3a78b0-3831
DTSTART:20221114T160000Z
DTEND:20221114T170000Z
CLASS:PUBLIC
SUMMARY:Utilities Meeting
END:VEVENT
END:VCALENDAR
