BEGIN:VCALENDAR
VERSION:2.0
PRODID:-//Sophicity/Tribune/Florala, AL
BEGIN:VEVENT
DTSTAMP:20260425T032713Z
UID:f52954d8-edf2-4c83-9db2-7e3a1a3a78b0-3829
DTSTART:20221110T180000Z
DTEND:20221110T220000Z
CLASS:PUBLIC
SUMMARY:Municipal Court
END:VEVENT
END:VCALENDAR
