BEGIN:VCALENDAR
VERSION:2.0
PRODID:-//Sophicity/Tribune/Florala, AL
BEGIN:VEVENT
DTSTAMP:20260425T032829Z
UID:f52954d8-edf2-4c83-9db2-7e3a1a3a78b0-3811
DTSTART:20220825T210000Z
DTEND:20220826T000000Z
CLASS:PUBLIC
SUMMARY:Florala Comes Alive After 5
END:VEVENT
END:VCALENDAR
