BEGIN:VCALENDAR
VERSION:2.0
PRODID:-//Sophicity/Tribune/Florala, AL
BEGIN:VEVENT
DTSTAMP:20260425T032718Z
UID:f52954d8-edf2-4c83-9db2-7e3a1a3a78b0-3810
DTSTART:20220822T220000Z
DTEND:20220823T000000Z
CLASS:PUBLIC
SUMMARY:Recreation Board Meeting @ 6 PM
END:VEVENT
END:VCALENDAR
