BEGIN:VCALENDAR
VERSION:2.0
PRODID:-//Sophicity/Tribune/Florala, AL
BEGIN:VEVENT
DTSTAMP:20260425T032845Z
UID:f52954d8-edf2-4c83-9db2-7e3a1a3a78b0-3808
DTSTART:20220811T170000Z
DTEND:20220811T190000Z
CLASS:PUBLIC
SUMMARY:Court @ 1 PM
END:VEVENT
END:VCALENDAR
