BEGIN:VCALENDAR
VERSION:2.0
PRODID:-//Sophicity/Tribune/Florala, AL
BEGIN:VEVENT
DTSTAMP:20260425T032840Z
UID:f52954d8-edf2-4c83-9db2-7e3a1a3a78b0-3807
DTSTART:20220811T213000Z
DTEND:20220811T230000Z
CLASS:PUBLIC
SUMMARY:Friends of Lake Jackson Mtg @ 5:30 PM
END:VEVENT
END:VCALENDAR
