BEGIN:VCALENDAR
VERSION:2.0
PRODID:-//Sophicity/Tribune/Florala, AL
BEGIN:VEVENT
DTSTAMP:20260425T015744Z
UID:f52954d8-edf2-4c83-9db2-7e3a1a3a78b0-3805
DTSTART:20220714T170000Z
DTEND:20220714T190000Z
CLASS:PUBLIC
SUMMARY:Court @ 1 PM
END:VEVENT
END:VCALENDAR
