BEGIN:VCALENDAR
VERSION:2.0
PRODID:-//Sophicity/Tribune/Florala, AL
BEGIN:VEVENT
DTSTAMP:20260425T015725Z
UID:f52954d8-edf2-4c83-9db2-7e3a1a3a78b0-3803
DTSTART:20220711T223000Z
DTEND:20220712T010000Z
CLASS:PUBLIC
SUMMARY:City Council Mtg @ 6:30 PM
END:VEVENT
END:VCALENDAR
