BEGIN:VCALENDAR
VERSION:2.0
PRODID:-//Sophicity/Tribune/Florala, AL
BEGIN:VEVENT
DTSTAMP:20260425T000915Z
UID:f52954d8-edf2-4c83-9db2-7e3a1a3a78b0-3802
DTSTART:20220210T180000Z
DTEND:20220210T200000Z
CLASS:PUBLIC
SUMMARY:Florala Municipal Court
END:VEVENT
END:VCALENDAR
