BEGIN:VCALENDAR
VERSION:2.0
PRODID:-//Sophicity/Tribune/Florala, AL
BEGIN:VEVENT
DTSTAMP:20260425T000915Z
UID:f52954d8-edf2-4c83-9db2-7e3a1a3a78b0-3801
DTSTART:20220207T160000Z
DTEND:20220207T170000Z
CLASS:PUBLIC
SUMMARY:Florala Waterboard Meeting
END:VEVENT
END:VCALENDAR
