BEGIN:VCALENDAR
VERSION:2.0
PRODID:-//Sophicity/Tribune/Florala, AL
BEGIN:VEVENT
DTSTAMP:20260424T222654Z
UID:f52954d8-edf2-4c83-9db2-7e3a1a3a78b0-3797
DTSTART:20220310T180000Z
DTEND:20220310T200000Z
CLASS:PUBLIC
SUMMARY:Florala Municipal Court
END:VEVENT
END:VCALENDAR
