BEGIN:VCALENDAR
VERSION:2.0
PRODID:-//Sophicity/Tribune/Florala, AL
BEGIN:VEVENT
DTSTAMP:20260424T222917Z
UID:f52954d8-edf2-4c83-9db2-7e3a1a3a78b0-3796
DTSTART:20220314T150000Z
DTEND:20220314T160000Z
CLASS:PUBLIC
SUMMARY:Florala Waterboard Meeting
END:VEVENT
END:VCALENDAR
