BEGIN:VCALENDAR
VERSION:2.0
PRODID:-//Sophicity/Tribune/Florala, AL
BEGIN:VEVENT
DTSTAMP:20260424T223324Z
UID:f52954d8-edf2-4c83-9db2-7e3a1a3a78b0-3795
DTSTART:20220314T223000Z
DTEND:20220315T000000Z
CLASS:PUBLIC
SUMMARY:City Council Meeting
END:VEVENT
END:VCALENDAR
