BEGIN:VCALENDAR
VERSION:2.0
PRODID:-//Sophicity/Tribune/Florala, AL
BEGIN:VEVENT
DTSTAMP:20260425T015534Z
UID:f52954d8-edf2-4c83-9db2-7e3a1a3a78b0-3787
DTSTART:20210624T140000Z
DTEND:20210624T150000Z
CLASS:PUBLIC
SUMMARY:Summer Reading with the Florala Public Library
END:VEVENT
END:VCALENDAR
