BEGIN:VCALENDAR
VERSION:2.0
PRODID:-//Sophicity/Tribune/Florala, AL
BEGIN:VEVENT
DTSTAMP:20260425T015533Z
UID:f52954d8-edf2-4c83-9db2-7e3a1a3a78b0-3768
DTSTART:20210625T120000Z
DTEND:20210625T210000Z
LOCATION:City Hall and Florala Utilities closed for Masonic Celebration
CLASS:PUBLIC
SUMMARY:City Hall and Florala Utilities closed for Masonic Celebration
END:VEVENT
END:VCALENDAR
