BEGIN:VCALENDAR
VERSION:2.0
PRODID:-//Sophicity/Tribune/Florala, AL
BEGIN:VEVENT
DTSTAMP:20260425T015451Z
UID:f52954d8-edf2-4c83-9db2-7e3a1a3a78b0-3765
DTSTART:20210614T150000Z
DTEND:20210614T150000Z
LOCATION:Council Chambers
CLASS:PUBLIC
SUMMARY:Florala Waterboard Meeting
END:VEVENT
END:VCALENDAR
