BEGIN:VCALENDAR
VERSION:2.0
PRODID:-//Sophicity/Tribune/Florala, AL
BEGIN:VEVENT
DTSTAMP:20260425T002743Z
UID:f52954d8-edf2-4c83-9db2-7e3a1a3a78b0-3764
DTSTART:20210531T120000Z
DTEND:20210531T210000Z
LOCATION:Senior Center
CLASS:PUBLIC
SUMMARY:Senior Center will be closed
END:VEVENT
END:VCALENDAR
