BEGIN:VCALENDAR
VERSION:2.0
PRODID:-//Sophicity/Tribune/Florala, AL
BEGIN:VEVENT
DTSTAMP:20260425T002818Z
UID:f52954d8-edf2-4c83-9db2-7e3a1a3a78b0-3763
DTSTART:20210524T140000Z
DTEND:20210525T140000Z
LOCATION:Rodney J Evans (RJE) building at Lake Jackson 
CLASS:PUBLIC
SUMMARY:Alabama Community of Excellence (ACE) meetings
END:VEVENT
END:VCALENDAR
