BEGIN:VCALENDAR
VERSION:2.0
PRODID:-//Sophicity/Tribune/Florala, AL
BEGIN:VEVENT
DTSTAMP:20260425T002910Z
UID:f52954d8-edf2-4c83-9db2-7e3a1a3a78b0-3762
DTSTART:20210512T120000Z
DTEND:20210515T210000Z
LOCATION:Huntsville
CLASS:PUBLIC
SUMMARY:Alabama League of Municipalities Conference (ALMA) in Huntsville for Mayor and Council
END:VEVENT
END:VCALENDAR
