BEGIN:VCALENDAR
VERSION:2.0
PRODID:-//Sophicity/Tribune/Florala, AL
BEGIN:VEVENT
DTSTAMP:20260424T224624Z
UID:f52954d8-edf2-4c83-9db2-7e3a1a3a78b0-3755
DTSTART:20210412T150000Z
DTEND:20210412T160000Z
LOCATION:Council Chambers (see below)
CLASS:PUBLIC
SUMMARY:Water Board meeting
END:VEVENT
END:VCALENDAR
