BEGIN:VCALENDAR
VERSION:2.0
PRODID:-//Sophicity/Tribune/Florala, AL
BEGIN:VEVENT
DTSTAMP:20260425T002712Z
UID:f52954d8-edf2-4c83-9db2-7e3a1a3a78b0-3753
DTSTART:20210309T130000Z
DTEND:20210309T190000Z
LOCATION:Lake Jackson
CLASS:PUBLIC
SUMMARY:Rangers Water Jump
END:VEVENT
END:VCALENDAR
