BEGIN:VCALENDAR
VERSION:2.0
PRODID:-//Sophicity/Tribune/Florala, AL
BEGIN:VEVENT
DTSTAMP:20260424T224626Z
UID:f52954d8-edf2-4c83-9db2-7e3a1a3a78b0-3752
DTSTART:20210402T120000Z
DTEND:20210402T210000Z
CLASS:PUBLIC
SUMMARY:Senior Center closed (no meals) for Good Friday
END:VEVENT
END:VCALENDAR
