BEGIN:VCALENDAR
VERSION:2.0
PRODID:-//Sophicity/Tribune/Florala, AL
BEGIN:VEVENT
DTSTAMP:20260425T002910Z
UID:f52954d8-edf2-4c83-9db2-7e3a1a3a78b0-3751
DTSTART:20210318T220000Z
DTEND:20210318T223000Z
LOCATION:Council Chambers (see below)
CLASS:PUBLIC
SUMMARY:Friends of Lake Jackson Meeting
END:VEVENT
END:VCALENDAR
