BEGIN:VCALENDAR
VERSION:2.0
PRODID:-//Sophicity/Tribune/Florala, AL
BEGIN:VEVENT
DTSTAMP:20260425T032713Z
UID:f52954d8-edf2-4c83-9db2-7e3a1a3a78b0-3732
DTSTART:20200704T160000Z
DTEND:20200704T160000Z
LOCATION:Lake Jackson
CLASS:PUBLIC
SUMMARY:Patriotic Pallets @ Lake Jackson
END:VEVENT
END:VCALENDAR
