BEGIN:VCALENDAR
VERSION:2.0
PRODID:-//Sophicity/Tribune/Florala, AL
BEGIN:VEVENT
DTSTAMP:20260425T002829Z
UID:f52954d8-edf2-4c83-9db2-7e3a1a3a78b0-3717
DTSTART:20220624T160000Z
DTEND:20220624T160000Z
CLASS:PUBLIC
SUMMARY:June 24th Masonic Celebration
END:VEVENT
END:VCALENDAR
