BEGIN:VCALENDAR
VERSION:2.0
PRODID:-//Sophicity/Tribune/Florala, AL
BEGIN:VEVENT
DTSTAMP:20260425T002818Z
UID:f52954d8-edf2-4c83-9db2-7e3a1a3a78b0-3708
DTSTART:20231225T170000Z
DTEND:20231225T170000Z
CLASS:PUBLIC
SUMMARY:Christmas Day - City Hall Closed
END:VEVENT
END:VCALENDAR
