BEGIN:VCALENDAR
VERSION:2.0
PRODID:-//Sophicity/Tribune/Florala, AL
BEGIN:VEVENT
DTSTAMP:20260424T224647Z
UID:f52954d8-edf2-4c83-9db2-7e3a1a3a78b0-3700
DTSTART:20251127T170000Z
DTEND:20251127T170000Z
CLASS:PUBLIC
SUMMARY:Thanksgiving Day - City Hall Closed
END:VEVENT
END:VCALENDAR
