BEGIN:VCALENDAR
VERSION:2.0
PRODID:-//Sophicity/Tribune/Florala, AL
BEGIN:VEVENT
DTSTAMP:20260425T032718Z
UID:f52954d8-edf2-4c83-9db2-7e3a1a3a78b0-3692
DTSTART:20221125T170000Z
DTEND:20221125T170000Z
CLASS:PUBLIC
SUMMARY:Thanksgiving Day - City Hall Closed
END:VEVENT
END:VCALENDAR
