BEGIN:VCALENDAR
VERSION:2.0
PRODID:-//Sophicity/Tribune/Florala, AL
BEGIN:VEVENT
DTSTAMP:20260425T015556Z
UID:f52954d8-edf2-4c83-9db2-7e3a1a3a78b0-3678
DTSTART:20231110T170000Z
DTEND:20231110T170000Z
CLASS:PUBLIC
SUMMARY:Veterans Day Observed - City Hall Closed
END:VEVENT
END:VCALENDAR
