BEGIN:VCALENDAR
VERSION:2.0
PRODID:-//Sophicity/Tribune/Florala, AL
BEGIN:VEVENT
DTSTAMP:20260425T015533Z
UID:f52954d8-edf2-4c83-9db2-7e3a1a3a78b0-3667
DTSTART:20210705T160000Z
DTEND:20210705T160000Z
CLASS:PUBLIC
SUMMARY:Independence Day Observed - City Hall Closed
END:VEVENT
END:VCALENDAR
