BEGIN:VCALENDAR
VERSION:2.0
PRODID:-//Sophicity/Tribune/Florala, AL
BEGIN:VEVENT
DTSTAMP:20260424T210147Z
UID:f52954d8-edf2-4c83-9db2-7e3a1a3a78b0-3664
DTSTART:20220502T160000Z
DTEND:20220502T160000Z
CLASS:PUBLIC
SUMMARY:Memorial Day - City Hall Closed
END:VEVENT
END:VCALENDAR
